BEGIN:VCALENDAR
VERSION:2.0
PRODID:-//eventon.com NONSGML v1.0//EN
CALSCALE:GREGORIAN
METHOD:PUBLISH
BEGIN:VEVENT
UID:69e89449efd86
DTSTAMP:20260422T092633Z
DTSTART:20260417T224300Z
DTEND:20260417T224300Z
LOCATION:
SUMMARY:Odontología Digital: Fundamentos y aplicaciones desde cero
DESCRIPTION:\nhttps://www.uic.mx/educacion-continua/events/odontologia-digi
 tal-fundamentos-y-aplicaciones-desde-cero/
URL:https://www.uic.mx/educacion-continua/events/odontologia-digital-fundamentos-y-aplicaciones-desde-cero/
END:VEVENT
END:VCALENDAR